BEGIN:VCALENDAR
VERSION:2.0
PRODID:-//jEvents 2.0 for Joomla//EN
CALSCALE:GREGORIAN
METHOD:PUBLISH
BEGIN:VTIMEZONE
TZID:Europe/Paris
BEGIN:STANDARD
DTSTART:20250315T000000
RDATE:20250330T030000
TZOFFSETFROM:+0200
TZOFFSETTO:+0100
TZNAME:Europe/Paris CET
END:STANDARD
BEGIN:STANDARD
DTSTART:20251026T020000
RDATE:20260329T030000
TZOFFSETFROM:+0200
TZOFFSETTO:+0100
TZNAME:Europe/Paris CET
END:STANDARD
BEGIN:STANDARD
DTSTART:20261025T020000
RDATE:20270328T030000
TZOFFSETFROM:+0200
TZOFFSETTO:+0100
TZNAME:Europe/Paris CET
END:STANDARD
BEGIN:STANDARD
DTSTART:20271031T020000
RDATE:20280326T030000
TZOFFSETFROM:+0200
TZOFFSETTO:+0100
TZNAME:Europe/Paris CET
END:STANDARD
BEGIN:STANDARD
DTSTART:20281029T020000
RDATE:20290325T030000
TZOFFSETFROM:+0200
TZOFFSETTO:+0100
TZNAME:Europe/Paris CET
END:STANDARD
BEGIN:STANDARD
DTSTART:20291028T020000
RDATE:20300331T030000
TZOFFSETFROM:+0200
TZOFFSETTO:+0100
TZNAME:Europe/Paris CET
END:STANDARD
BEGIN:STANDARD
DTSTART:20301027T020000
RDATE:20310330T030000
TZOFFSETFROM:+0200
TZOFFSETTO:+0100
TZNAME:Europe/Paris CET
END:STANDARD
BEGIN:DAYLIGHT
DTSTART:20250330T030000
RDATE:20251026T020000
TZOFFSETFROM:+0100
TZOFFSETTO:+0200
TZNAME:Europe/Paris CEST
END:DAYLIGHT
BEGIN:DAYLIGHT
DTSTART:20260329T030000
RDATE:20261025T020000
TZOFFSETFROM:+0100
TZOFFSETTO:+0200
TZNAME:Europe/Paris CEST
END:DAYLIGHT
BEGIN:DAYLIGHT
DTSTART:20270328T030000
RDATE:20271031T020000
TZOFFSETFROM:+0100
TZOFFSETTO:+0200
TZNAME:Europe/Paris CEST
END:DAYLIGHT
BEGIN:DAYLIGHT
DTSTART:20280326T030000
RDATE:20281029T020000
TZOFFSETFROM:+0100
TZOFFSETTO:+0200
TZNAME:Europe/Paris CEST
END:DAYLIGHT
BEGIN:DAYLIGHT
DTSTART:20290325T030000
RDATE:20291028T020000
TZOFFSETFROM:+0100
TZOFFSETTO:+0200
TZNAME:Europe/Paris CEST
END:DAYLIGHT
BEGIN:DAYLIGHT
DTSTART:20300331T030000
RDATE:20301027T020000
TZOFFSETFROM:+0100
TZOFFSETTO:+0200
TZNAME:Europe/Paris CEST
END:DAYLIGHT
END:VTIMEZONE
BEGIN:VEVENT
UID:bf4f868e712f8ca1815dd7d58bdd6f77
CATEGORIES:CIRP Conferences
CREATED:20240109T140450
SUMMARY:36th CIRP Design Conference
URL;VALUE=URI:https://www.dev.cirp.net/event-detail/icalrepeat.detail/2026/03/16/474/-/36
 th-cirp-design-conference.html?tmpl=component
DESCRIPTION:The 36th CIRP Design Conference will be held in Tokyo, Japan on March 16-18
 , 2026.\nContact: Prof. H. Komoto - This email address is being protected f
 rom spambots. You need JavaScript enabled to view it.\nWebsite: https://cir
 p-design2026.jspe.or.jp/ (https://cirp-design2026.jspe.or.jp/)\n This event
  was imported from: https://www.dev.cirp.net/event-detail/icalrepeat.detail
 /2026/03/16/474/-/36th-cirp-design-conference.html?tmpl=component
X-ALT-DESC;FMTTYPE=text/html:<p>The <strong><span style="color: #800000;">36<sup>th</sup> CIRP Design Co
 nference</span></strong> will be held in Tokyo, Japan on March 16-18, 2026.
 </p><p><strong>Contact:</strong> Prof. H. Komoto - <joomla-hidden-mail  is-
 link="1" is-email="1" first="aC5rb21vdG8=" last="YWlzdC5nby5qcA==" text="aC
 5rb21vdG9AYWlzdC5nby5qcA==" base="" >This email address is being protected 
 from spambots. You need JavaScript enabled to view it.</joomla-hidden-mail>
 </p><p><strong>Website</strong>: <a href="https://cirp-design2026.jspe.or.j
 p/">https://cirp-design2026.jspe.or.jp/</a></p> <a href="https://www.dev.ci
 rp.net/event-detail/icalrepeat.detail/2026/03/16/474/-/36th-cirp-design-con
 ference.html?tmpl=component">This event was imported from: https://www.dev.
 cirp.net/event-detail/icalrepeat.detail/2026/03/16/474/-/36th-cirp-design-c
 onference.html?tmpl=component</a>DTSTAMP:20260420T145302
DTSTART;TZID=Europe/Paris;VALUE=DATE:20260316
DTEND;TZID=Europe/Paris;VALUE=DATE:20260319
SEQUENCE:0
TRANSP:OPAQUE
END:VEVENT
END:VCALENDAR