BEGIN:VCALENDAR
VERSION:2.0
PRODID:-//jEvents 2.0 for Joomla//EN
CALSCALE:GREGORIAN
METHOD:PUBLISH
BEGIN:VTIMEZONE
TZID:Europe/Paris
BEGIN:STANDARD
DTSTART:20250310T000000
RDATE:20250330T030000
TZOFFSETFROM:+0200
TZOFFSETTO:+0100
TZNAME:Europe/Paris CET
END:STANDARD
BEGIN:STANDARD
DTSTART:20251026T020000
RDATE:20260329T030000
TZOFFSETFROM:+0200
TZOFFSETTO:+0100
TZNAME:Europe/Paris CET
END:STANDARD
BEGIN:STANDARD
DTSTART:20261025T020000
RDATE:20270328T030000
TZOFFSETFROM:+0200
TZOFFSETTO:+0100
TZNAME:Europe/Paris CET
END:STANDARD
BEGIN:STANDARD
DTSTART:20271031T020000
RDATE:20280326T030000
TZOFFSETFROM:+0200
TZOFFSETTO:+0100
TZNAME:Europe/Paris CET
END:STANDARD
BEGIN:STANDARD
DTSTART:20281029T020000
RDATE:20290325T030000
TZOFFSETFROM:+0200
TZOFFSETTO:+0100
TZNAME:Europe/Paris CET
END:STANDARD
BEGIN:STANDARD
DTSTART:20291028T020000
RDATE:20300331T030000
TZOFFSETFROM:+0200
TZOFFSETTO:+0100
TZNAME:Europe/Paris CET
END:STANDARD
BEGIN:STANDARD
DTSTART:20301027T020000
RDATE:20310330T030000
TZOFFSETFROM:+0200
TZOFFSETTO:+0100
TZNAME:Europe/Paris CET
END:STANDARD
BEGIN:DAYLIGHT
DTSTART:20250330T030000
RDATE:20251026T020000
TZOFFSETFROM:+0100
TZOFFSETTO:+0200
TZNAME:Europe/Paris CEST
END:DAYLIGHT
BEGIN:DAYLIGHT
DTSTART:20260329T030000
RDATE:20261025T020000
TZOFFSETFROM:+0100
TZOFFSETTO:+0200
TZNAME:Europe/Paris CEST
END:DAYLIGHT
BEGIN:DAYLIGHT
DTSTART:20270328T030000
RDATE:20271031T020000
TZOFFSETFROM:+0100
TZOFFSETTO:+0200
TZNAME:Europe/Paris CEST
END:DAYLIGHT
BEGIN:DAYLIGHT
DTSTART:20280326T030000
RDATE:20281029T020000
TZOFFSETFROM:+0100
TZOFFSETTO:+0200
TZNAME:Europe/Paris CEST
END:DAYLIGHT
BEGIN:DAYLIGHT
DTSTART:20290325T030000
RDATE:20291028T020000
TZOFFSETFROM:+0100
TZOFFSETTO:+0200
TZNAME:Europe/Paris CEST
END:DAYLIGHT
BEGIN:DAYLIGHT
DTSTART:20300331T030000
RDATE:20301027T020000
TZOFFSETFROM:+0100
TZOFFSETTO:+0200
TZNAME:Europe/Paris CEST
END:DAYLIGHT
END:VTIMEZONE
BEGIN:VEVENT
UID:282ff913a6f7d5100f6a729006229328
CATEGORIES:CIRP Conferences
CREATED:20230915T120149
SUMMARY:33rd CIRP Conference on Life Cycle Engineering - LCE 2026
URL;VALUE=URI:https://www.dev.cirp.net/event-detail/icalrepeat.detail/2026/03/11/467/-/33
 rd-cirp-conference-on-life-cycle-engineering-lce-2026.html?tmpl=component
DESCRIPTION:The 33rd CIRP Conference on Life Cycle Engineering - LCE 2026 will be held 
 in Kamakura, Japan, on March 11-13, 2026.\nWebsite: https://cirp-lce2026.js
 pe.or.jp/ (https://cirp-lce2026.jspe.or.jp/)\n This event was imported from
 : https://www.dev.cirp.net/event-detail/icalrepeat.detail/2026/03/11/467/-/
 33rd-cirp-conference-on-life-cycle-engineering-lce-2026.html?tmpl=component
X-ALT-DESC;FMTTYPE=text/html:<p>The<span style="color: #800000;"><strong> 33r<span style="font-size: 10.
 5px;">d</span> CIRP Conference on Life Cycle Engineering - LCE 2026</strong
 ></span> will be held in Kamakura, Japan, on March 11-13, 2026.</p><p><stro
 ng>Website</strong>: <a href="https://cirp-lce2026.jspe.or.jp/">https://cir
 p-lce2026.jspe.or.jp/</a></p> <a href="https://www.dev.cirp.net/event-detai
 l/icalrepeat.detail/2026/03/11/467/-/33rd-cirp-conference-on-life-cycle-eng
 ineering-lce-2026.html?tmpl=component">This event was imported from: https:
 //www.dev.cirp.net/event-detail/icalrepeat.detail/2026/03/11/467/-/33rd-cir
 p-conference-on-life-cycle-engineering-lce-2026.html?tmpl=component</a>DTSTAMP:20260420T182814
DTSTART;TZID=Europe/Paris;VALUE=DATE:20260311
DTEND;TZID=Europe/Paris;VALUE=DATE:20260314
SEQUENCE:0
TRANSP:OPAQUE
END:VEVENT
END:VCALENDAR