BEGIN:VCALENDAR
VERSION:2.0
PRODID:-//jEvents 2.0 for Joomla//EN
CALSCALE:GREGORIAN
METHOD:PUBLISH
BEGIN:VTIMEZONE
TZID:Europe/Paris
BEGIN:STANDARD
DTSTART:20260309T000000
RDATE:20260329T030000
TZOFFSETFROM:+0200
TZOFFSETTO:+0100
TZNAME:Europe/Paris CET
END:STANDARD
BEGIN:STANDARD
DTSTART:20261025T020000
RDATE:20270328T030000
TZOFFSETFROM:+0200
TZOFFSETTO:+0100
TZNAME:Europe/Paris CET
END:STANDARD
BEGIN:STANDARD
DTSTART:20271031T020000
RDATE:20280326T030000
TZOFFSETFROM:+0200
TZOFFSETTO:+0100
TZNAME:Europe/Paris CET
END:STANDARD
BEGIN:STANDARD
DTSTART:20281029T020000
RDATE:20290325T030000
TZOFFSETFROM:+0200
TZOFFSETTO:+0100
TZNAME:Europe/Paris CET
END:STANDARD
BEGIN:STANDARD
DTSTART:20291028T020000
RDATE:20300331T030000
TZOFFSETFROM:+0200
TZOFFSETTO:+0100
TZNAME:Europe/Paris CET
END:STANDARD
BEGIN:STANDARD
DTSTART:20301027T020000
RDATE:20310330T030000
TZOFFSETFROM:+0200
TZOFFSETTO:+0100
TZNAME:Europe/Paris CET
END:STANDARD
BEGIN:DAYLIGHT
DTSTART:20260329T030000
RDATE:20261025T020000
TZOFFSETFROM:+0100
TZOFFSETTO:+0200
TZNAME:Europe/Paris CEST
END:DAYLIGHT
BEGIN:DAYLIGHT
DTSTART:20270328T030000
RDATE:20271031T020000
TZOFFSETFROM:+0100
TZOFFSETTO:+0200
TZNAME:Europe/Paris CEST
END:DAYLIGHT
BEGIN:DAYLIGHT
DTSTART:20280326T030000
RDATE:20281029T020000
TZOFFSETFROM:+0100
TZOFFSETTO:+0200
TZNAME:Europe/Paris CEST
END:DAYLIGHT
BEGIN:DAYLIGHT
DTSTART:20290325T030000
RDATE:20291028T020000
TZOFFSETFROM:+0100
TZOFFSETTO:+0200
TZNAME:Europe/Paris CEST
END:DAYLIGHT
BEGIN:DAYLIGHT
DTSTART:20300331T030000
RDATE:20301027T020000
TZOFFSETFROM:+0100
TZOFFSETTO:+0200
TZNAME:Europe/Paris CEST
END:DAYLIGHT
END:VTIMEZONE
BEGIN:VEVENT
UID:08207aabf80043616076cff6b555bd15
CATEGORIES:CIRP Conferences
CREATED:20251010T122052
SUMMARY:37th CIRP Design Conference
URL;VALUE=URI:https://www.dev.cirp.net/event-detail/icalrepeat.detail/2027/03/10/2690/-/3
 7th-cirp-design-conference.html?tmpl=component
DESCRIPTION:The 37th CIRP Design Conference will be held in Aix-en-Provence, France on 
 March 10-12, 2027.\n This event was imported from: https://www.dev.cirp.net
 /event-detail/icalrepeat.detail/2027/03/10/2690/-/37th-cirp-design-conferen
 ce.html?tmpl=component
X-ALT-DESC;FMTTYPE=text/html:<p>The <strong><span style="color: #800000;">37<sup>th</sup> CIRP Design Co
 nference</span></strong> will be held in Aix-en-Provence, France on March 1
 0-12, 2027.</p> <a href="https://www.dev.cirp.net/event-detail/icalrepeat.d
 etail/2027/03/10/2690/-/37th-cirp-design-conference.html?tmpl=component">Th
 is event was imported from: https://www.dev.cirp.net/event-detail/icalrepea
 t.detail/2027/03/10/2690/-/37th-cirp-design-conference.html?tmpl=component<
 /a>DTSTAMP:20260420T092646
DTSTART;TZID=Europe/Paris;VALUE=DATE:20270310
DTEND;TZID=Europe/Paris;VALUE=DATE:20270313
SEQUENCE:0
TRANSP:OPAQUE
END:VEVENT
END:VCALENDAR