BEGIN:VCALENDAR
VERSION:2.0
PRODID:-//jEvents 2.0 for Joomla//EN
CALSCALE:GREGORIAN
METHOD:PUBLISH
BEGIN:VTIMEZONE
TZID:Europe/Paris
BEGIN:STANDARD
DTSTART:20291028T020000
RDATE:20300331T030000
TZOFFSETFROM:+0200
TZOFFSETTO:+0100
TZNAME:Europe/Paris CET
END:STANDARD
BEGIN:STANDARD
DTSTART:20301027T020000
RDATE:20310330T030000
TZOFFSETFROM:+0200
TZOFFSETTO:+0100
TZNAME:Europe/Paris CET
END:STANDARD
BEGIN:DAYLIGHT
DTSTART:20290618T000000
RDATE:20291028T020000
TZOFFSETFROM:+0100
TZOFFSETTO:+0200
TZNAME:Europe/Paris CEST
END:DAYLIGHT
BEGIN:DAYLIGHT
DTSTART:20300331T030000
RDATE:20301027T020000
TZOFFSETFROM:+0100
TZOFFSETTO:+0200
TZNAME:Europe/Paris CEST
END:DAYLIGHT
END:VTIMEZONE
BEGIN:VEVENT
UID:0f32139e7f32578510a7a9352489c1d8
CATEGORIES:CIRP Conferences
CREATED:20250307T131235
SUMMARY:12th CIRP Conference on High Performance Cutting - CIRP HPC 2030
URL;VALUE=URI:https://www.dev.cirp.net/event-detail/icalrepeat.detail/2030/06/19/2676/-/1
 2th-cirp-conference-on-high-performance-cutting-cirp-hpc-2030.html?tmpl=com
 ponent
DESCRIPTION:<p><span style="color: #000000;">The</span><strong><span style="color: #800
 000;"> 12th CIRP Conference on High Performance Cutting</span> </strong>wil
 l be held in Lund, Sweden on June 19-21, 2030.</p> <a href="https://www.dev
 .cirp.net/event-detail/icalrepeat.detail/2030/06/19/2676/-/12th-cirp-confer
 ence-on-high-performance-cutting-cirp-hpc-2030.html?tmpl=component">This ev
 ent was imported from: https://www.dev.cirp.net/event-detail/icalrepeat.det
 ail/2030/06/19/2676/-/12th-cirp-conference-on-high-performance-cutting-cirp
 -hpc-2030.html?tmpl=component</a>DTSTAMP:20260421T013021
DTSTART;TZID=Europe/Paris;VALUE=DATE:20300619
DTEND;TZID=Europe/Paris;VALUE=DATE:20300622
SEQUENCE:0
TRANSP:OPAQUE
END:VEVENT
END:VCALENDAR