BEGIN:VCALENDAR
VERSION:2.0
PRODID:-//jEvents 2.0 for Joomla//EN
CALSCALE:GREGORIAN
METHOD:PUBLISH
BEGIN:VTIMEZONE
TZID:Europe/Paris
BEGIN:STANDARD
DTSTART:20291028T020000
RDATE:20300331T030000
TZOFFSETFROM:+0200
TZOFFSETTO:+0100
TZNAME:Europe/Paris CET
END:STANDARD
BEGIN:STANDARD
DTSTART:20301027T020000
RDATE:20310330T030000
TZOFFSETFROM:+0200
TZOFFSETTO:+0100
TZNAME:Europe/Paris CET
END:STANDARD
BEGIN:DAYLIGHT
DTSTART:20290604T000000
RDATE:20291028T020000
TZOFFSETFROM:+0100
TZOFFSETTO:+0200
TZNAME:Europe/Paris CEST
END:DAYLIGHT
BEGIN:DAYLIGHT
DTSTART:20300331T030000
RDATE:20301027T020000
TZOFFSETFROM:+0100
TZOFFSETTO:+0200
TZNAME:Europe/Paris CEST
END:DAYLIGHT
END:VTIMEZONE
BEGIN:VEVENT
UID:828981a582f511073fa76749d2fb5cdc
CATEGORIES:CIRP Conferences
CREATED:20250307T130908
SUMMARY:10th CIRP Conference on Surface Integrity - CSI 2030
URL;VALUE=URI:https://www.dev.cirp.net/event-detail/icalrepeat.detail/2030/06/05/2675/-/1
 0th-cirp-conference-on-surface-integrity-csi-2030.html?tmpl=component
DESCRIPTION:The 10th CIRP Conference on Surface Integrity (CSI 2030) will be held in Ch
 arlotte, USA on June 5-7, 2030.\n This event was imported from: https://www
 .dev.cirp.net/event-detail/icalrepeat.detail/2030/06/05/2675/-/10th-cirp-co
 nference-on-surface-integrity-csi-2030.html?tmpl=component
X-ALT-DESC;FMTTYPE=text/html:<p>The <strong><span style="color: rgb(128, 0, 0);">10</span><span style="c
 olor: #800000;">th CIRP Conference on Surface Integrity (CSI 2030)</span> <
 /strong>will be held in Charlotte, USA on June 5-7, 2030.</p> <a href="http
 s://www.dev.cirp.net/event-detail/icalrepeat.detail/2030/06/05/2675/-/10th-
 cirp-conference-on-surface-integrity-csi-2030.html?tmpl=component">This eve
 nt was imported from: https://www.dev.cirp.net/event-detail/icalrepeat.deta
 il/2030/06/05/2675/-/10th-cirp-conference-on-surface-integrity-csi-2030.htm
 l?tmpl=component</a>DTSTAMP:20260421T012827
DTSTART;TZID=Europe/Paris;VALUE=DATE:20300605
DTEND;TZID=Europe/Paris;VALUE=DATE:20300608
SEQUENCE:0
TRANSP:OPAQUE
END:VEVENT
END:VCALENDAR