BEGIN:VCALENDAR
VERSION:2.0
PRODID:-//jEvents 2.0 for Joomla//EN
CALSCALE:GREGORIAN
METHOD:PUBLISH
BEGIN:VTIMEZONE
TZID:Europe/Paris
BEGIN:STANDARD
DTSTART:20281029T020000
RDATE:20290325T030000
TZOFFSETFROM:+0200
TZOFFSETTO:+0100
TZNAME:Europe/Paris CET
END:STANDARD
BEGIN:STANDARD
DTSTART:20291028T020000
RDATE:20300331T030000
TZOFFSETFROM:+0200
TZOFFSETTO:+0100
TZNAME:Europe/Paris CET
END:STANDARD
BEGIN:STANDARD
DTSTART:20301027T020000
RDATE:20310330T030000
TZOFFSETFROM:+0200
TZOFFSETTO:+0100
TZNAME:Europe/Paris CET
END:STANDARD
BEGIN:DAYLIGHT
DTSTART:20280430T000000
RDATE:20281029T020000
TZOFFSETFROM:+0100
TZOFFSETTO:+0200
TZNAME:Europe/Paris CEST
END:DAYLIGHT
BEGIN:DAYLIGHT
DTSTART:20290325T030000
RDATE:20291028T020000
TZOFFSETFROM:+0100
TZOFFSETTO:+0200
TZNAME:Europe/Paris CEST
END:DAYLIGHT
BEGIN:DAYLIGHT
DTSTART:20300331T030000
RDATE:20301027T020000
TZOFFSETFROM:+0100
TZOFFSETTO:+0200
TZNAME:Europe/Paris CEST
END:DAYLIGHT
END:VTIMEZONE
BEGIN:VEVENT
UID:7a029a26df17934e5a888cca105b9a58
CATEGORIES:CIRP Conferences
CREATED:20250307T130556
SUMMARY:22nd CIRP Conference on Modelling Machining Operations
URL;VALUE=URI:https://www.dev.cirp.net/event-detail/icalrepeat.detail/2029/05/01/2674/-/2
 2nd-cirp-conference-on-modelling-machining-operations.html?tmpl=component
DESCRIPTION:<p>The <strong><span style="color: rgb(128, 0, 0);">22nd</span><span style=
 "color: #800000;"> CIRP Conference on Modelling Machining Operations (CIRP 
 MMO 2029)</span> </strong>will be held in San Sebastian, Spain on May 2029 
 (more precision later)</p> <a href="https://www.dev.cirp.net/event-detail/i
 calrepeat.detail/2029/05/01/2674/-/22nd-cirp-conference-on-modelling-machin
 ing-operations.html?tmpl=component">This event was imported from: https://w
 ww.dev.cirp.net/event-detail/icalrepeat.detail/2029/05/01/2674/-/22nd-cirp-
 conference-on-modelling-machining-operations.html?tmpl=component</a>DTSTAMP:20260420T190032
DTSTART;TZID=Europe/Paris;VALUE=DATE:20290501
DTEND;TZID=Europe/Paris;VALUE=DATE:20290502
SEQUENCE:0
TRANSP:OPAQUE
END:VEVENT
END:VCALENDAR