BEGIN:VCALENDAR
VERSION:2.0
PRODID:-//jEvents 2.0 for Joomla//EN
CALSCALE:GREGORIAN
METHOD:PUBLISH
BEGIN:VTIMEZONE
TZID:Europe/Paris
BEGIN:STANDARD
DTSTART:20251026T020000
RDATE:20260329T030000
TZOFFSETFROM:+0200
TZOFFSETTO:+0100
TZNAME:Europe/Paris CET
END:STANDARD
BEGIN:STANDARD
DTSTART:20261025T020000
RDATE:20270328T030000
TZOFFSETFROM:+0200
TZOFFSETTO:+0100
TZNAME:Europe/Paris CET
END:STANDARD
BEGIN:STANDARD
DTSTART:20271031T020000
RDATE:20280326T030000
TZOFFSETFROM:+0200
TZOFFSETTO:+0100
TZNAME:Europe/Paris CET
END:STANDARD
BEGIN:STANDARD
DTSTART:20281029T020000
RDATE:20290325T030000
TZOFFSETFROM:+0200
TZOFFSETTO:+0100
TZNAME:Europe/Paris CET
END:STANDARD
BEGIN:STANDARD
DTSTART:20291028T020000
RDATE:20300331T030000
TZOFFSETFROM:+0200
TZOFFSETTO:+0100
TZNAME:Europe/Paris CET
END:STANDARD
BEGIN:STANDARD
DTSTART:20301027T020000
RDATE:20310330T030000
TZOFFSETFROM:+0200
TZOFFSETTO:+0100
TZNAME:Europe/Paris CET
END:STANDARD
BEGIN:DAYLIGHT
DTSTART:20250620T000000
RDATE:20251026T020000
TZOFFSETFROM:+0100
TZOFFSETTO:+0200
TZNAME:Europe/Paris CEST
END:DAYLIGHT
BEGIN:DAYLIGHT
DTSTART:20260329T030000
RDATE:20261025T020000
TZOFFSETFROM:+0100
TZOFFSETTO:+0200
TZNAME:Europe/Paris CEST
END:DAYLIGHT
BEGIN:DAYLIGHT
DTSTART:20270328T030000
RDATE:20271031T020000
TZOFFSETFROM:+0100
TZOFFSETTO:+0200
TZNAME:Europe/Paris CEST
END:DAYLIGHT
BEGIN:DAYLIGHT
DTSTART:20280326T030000
RDATE:20281029T020000
TZOFFSETFROM:+0100
TZOFFSETTO:+0200
TZNAME:Europe/Paris CEST
END:DAYLIGHT
BEGIN:DAYLIGHT
DTSTART:20290325T030000
RDATE:20291028T020000
TZOFFSETFROM:+0100
TZOFFSETTO:+0200
TZNAME:Europe/Paris CEST
END:DAYLIGHT
BEGIN:DAYLIGHT
DTSTART:20300331T030000
RDATE:20301027T020000
TZOFFSETFROM:+0100
TZOFFSETTO:+0200
TZNAME:Europe/Paris CEST
END:DAYLIGHT
END:VTIMEZONE
BEGIN:VEVENT
UID:7b7228ff84c1ee0c71588ce5025d1be9
CATEGORIES:CIRP Sponsored Conferences
CREATED:20250307T124601
SUMMARY:XXXVII Conference on Supervising and Diagnostics of Machining Systems
URL;VALUE=URI:https://www.dev.cirp.net/event-detail/icalrepeat.detail/2026/06/21/2669/-/x
 xxvii-conference-on-supervising-and-diagnostics-of-machining-systems.html?t
 mpl=component
DESCRIPTION:The XXXVII Conference on Supervising and Diagnostics of Machining Systems w
 ill be held in Karpacz, Poland, on June 21-25, 2026.\nSubject: Manufacturin
 g efficient intelligent functions development\nWebsite: https://karpacz.pwr
 .edu.pl/ (https://karpacz.pwr.edu.pl/)\n This event was imported from: http
 s://www.dev.cirp.net/event-detail/icalrepeat.detail/2026/06/21/2669/-/xxxvi
 i-conference-on-supervising-and-diagnostics-of-machining-systems.html?tmpl=
 component
X-ALT-DESC;FMTTYPE=text/html:<p>The <strong><span style="color: #800000;">XXXVII Conference on Supervisi
 ng and Diagnostics of Machining Systems</span></strong> will be held in Kar
 pacz, Poland, on June 21-25, 2026.</p><p>Subject: Manufacturing efficient i
 ntelligent functions development</p><p><strong>Website</strong>: <a href="h
 ttps://karpacz.pwr.edu.pl/">https://karpacz.pwr.edu.pl/</a></p> <a href="ht
 tps://www.dev.cirp.net/event-detail/icalrepeat.detail/2026/06/21/2669/-/xxx
 vii-conference-on-supervising-and-diagnostics-of-machining-systems.html?tmp
 l=component">This event was imported from: https://www.dev.cirp.net/event-d
 etail/icalrepeat.detail/2026/06/21/2669/-/xxxvii-conference-on-supervising-
 and-diagnostics-of-machining-systems.html?tmpl=component</a>DTSTAMP:20260420T065329
DTSTART;TZID=Europe/Paris;VALUE=DATE:20260621
DTEND;TZID=Europe/Paris;VALUE=DATE:20260626
SEQUENCE:0
TRANSP:OPAQUE
END:VEVENT
END:VCALENDAR