BEGIN:VCALENDAR
VERSION:2.0
PRODID:-//jEvents 2.0 for Joomla//EN
CALSCALE:GREGORIAN
METHOD:PUBLISH
BEGIN:VTIMEZONE
TZID:Europe/Paris
BEGIN:STANDARD
DTSTART:20251026T020000
RDATE:20260329T030000
TZOFFSETFROM:+0200
TZOFFSETTO:+0100
TZNAME:Europe/Paris CET
END:STANDARD
BEGIN:STANDARD
DTSTART:20261025T020000
RDATE:20270328T030000
TZOFFSETFROM:+0200
TZOFFSETTO:+0100
TZNAME:Europe/Paris CET
END:STANDARD
BEGIN:STANDARD
DTSTART:20271031T020000
RDATE:20280326T030000
TZOFFSETFROM:+0200
TZOFFSETTO:+0100
TZNAME:Europe/Paris CET
END:STANDARD
BEGIN:STANDARD
DTSTART:20281029T020000
RDATE:20290325T030000
TZOFFSETFROM:+0200
TZOFFSETTO:+0100
TZNAME:Europe/Paris CET
END:STANDARD
BEGIN:STANDARD
DTSTART:20291028T020000
RDATE:20300331T030000
TZOFFSETFROM:+0200
TZOFFSETTO:+0100
TZNAME:Europe/Paris CET
END:STANDARD
BEGIN:STANDARD
DTSTART:20301027T020000
RDATE:20310330T030000
TZOFFSETFROM:+0200
TZOFFSETTO:+0100
TZNAME:Europe/Paris CET
END:STANDARD
BEGIN:DAYLIGHT
DTSTART:20250614T000000
RDATE:20251026T020000
TZOFFSETFROM:+0100
TZOFFSETTO:+0200
TZNAME:Europe/Paris CEST
END:DAYLIGHT
BEGIN:DAYLIGHT
DTSTART:20260329T030000
RDATE:20261025T020000
TZOFFSETFROM:+0100
TZOFFSETTO:+0200
TZNAME:Europe/Paris CEST
END:DAYLIGHT
BEGIN:DAYLIGHT
DTSTART:20270328T030000
RDATE:20271031T020000
TZOFFSETFROM:+0100
TZOFFSETTO:+0200
TZNAME:Europe/Paris CEST
END:DAYLIGHT
BEGIN:DAYLIGHT
DTSTART:20280326T030000
RDATE:20281029T020000
TZOFFSETFROM:+0100
TZOFFSETTO:+0200
TZNAME:Europe/Paris CEST
END:DAYLIGHT
BEGIN:DAYLIGHT
DTSTART:20290325T030000
RDATE:20291028T020000
TZOFFSETFROM:+0100
TZOFFSETTO:+0200
TZNAME:Europe/Paris CEST
END:DAYLIGHT
BEGIN:DAYLIGHT
DTSTART:20300331T030000
RDATE:20301027T020000
TZOFFSETFROM:+0100
TZOFFSETTO:+0200
TZNAME:Europe/Paris CEST
END:DAYLIGHT
END:VTIMEZONE
BEGIN:VEVENT
UID:f2149d70f5e8f40b295c82d730af0d65
CATEGORIES:CIRP Conferences
CREATED:20240311T112610
SUMMARY:19th CIRP Conference on Computer Aided Tolerancing - CAT 2026
URL;VALUE=URI:https://www.dev.cirp.net/event-detail/icalrepeat.detail/2026/06/15/2128/-/1
 9th-cirp-conference-on-computer-aided-tolerancing-cat-2026.html?tmpl=compon
 ent
DESCRIPTION:<p>The <span style="color: #800000;"><strong>19th CIRP Conference on Comput
 er Aided Tolerancing - CAT 2026 </strong></span>will be held in Edmonton, A
 lberta, Canada on June 15-17, 2026.</p> <a href="https://www.dev.cirp.net/e
 vent-detail/icalrepeat.detail/2026/06/15/2128/-/19th-cirp-conference-on-com
 puter-aided-tolerancing-cat-2026.html?tmpl=component">This event was import
 ed from: https://www.dev.cirp.net/event-detail/icalrepeat.detail/2026/06/15
 /2128/-/19th-cirp-conference-on-computer-aided-tolerancing-cat-2026.html?tm
 pl=component</a>DTSTAMP:20260420T093149
DTSTART;TZID=Europe/Paris;VALUE=DATE:20260615
DTEND;TZID=Europe/Paris;VALUE=DATE:20260618
SEQUENCE:0
TRANSP:OPAQUE
END:VEVENT
END:VCALENDAR