BEGIN:VCALENDAR
VERSION:2.0
PRODID:-//jEvents 2.0 for Joomla//EN
CALSCALE:GREGORIAN
METHOD:PUBLISH
BEGIN:VTIMEZONE
TZID:Europe/Paris
BEGIN:STANDARD
DTSTART:20241027T020000
RDATE:20250330T030000
TZOFFSETFROM:+0200
TZOFFSETTO:+0100
TZNAME:Europe/Paris CET
END:STANDARD
BEGIN:STANDARD
DTSTART:20251026T020000
RDATE:20260329T030000
TZOFFSETFROM:+0200
TZOFFSETTO:+0100
TZNAME:Europe/Paris CET
END:STANDARD
BEGIN:STANDARD
DTSTART:20261025T020000
RDATE:20270328T030000
TZOFFSETFROM:+0200
TZOFFSETTO:+0100
TZNAME:Europe/Paris CET
END:STANDARD
BEGIN:STANDARD
DTSTART:20271031T020000
RDATE:20280326T030000
TZOFFSETFROM:+0200
TZOFFSETTO:+0100
TZNAME:Europe/Paris CET
END:STANDARD
BEGIN:STANDARD
DTSTART:20281029T020000
RDATE:20290325T030000
TZOFFSETFROM:+0200
TZOFFSETTO:+0100
TZNAME:Europe/Paris CET
END:STANDARD
BEGIN:STANDARD
DTSTART:20291028T020000
RDATE:20300331T030000
TZOFFSETFROM:+0200
TZOFFSETTO:+0100
TZNAME:Europe/Paris CET
END:STANDARD
BEGIN:STANDARD
DTSTART:20301027T020000
RDATE:20310330T030000
TZOFFSETFROM:+0200
TZOFFSETTO:+0100
TZNAME:Europe/Paris CET
END:STANDARD
BEGIN:DAYLIGHT
DTSTART:20241014T000000
RDATE:20241027T020000
TZOFFSETFROM:+0100
TZOFFSETTO:+0200
TZNAME:Europe/Paris CEST
END:DAYLIGHT
BEGIN:DAYLIGHT
DTSTART:20250330T030000
RDATE:20251026T020000
TZOFFSETFROM:+0100
TZOFFSETTO:+0200
TZNAME:Europe/Paris CEST
END:DAYLIGHT
BEGIN:DAYLIGHT
DTSTART:20260329T030000
RDATE:20261025T020000
TZOFFSETFROM:+0100
TZOFFSETTO:+0200
TZNAME:Europe/Paris CEST
END:DAYLIGHT
BEGIN:DAYLIGHT
DTSTART:20270328T030000
RDATE:20271031T020000
TZOFFSETFROM:+0100
TZOFFSETTO:+0200
TZNAME:Europe/Paris CEST
END:DAYLIGHT
BEGIN:DAYLIGHT
DTSTART:20280326T030000
RDATE:20281029T020000
TZOFFSETFROM:+0100
TZOFFSETTO:+0200
TZNAME:Europe/Paris CEST
END:DAYLIGHT
BEGIN:DAYLIGHT
DTSTART:20290325T030000
RDATE:20291028T020000
TZOFFSETFROM:+0100
TZOFFSETTO:+0200
TZNAME:Europe/Paris CEST
END:DAYLIGHT
BEGIN:DAYLIGHT
DTSTART:20300331T030000
RDATE:20301027T020000
TZOFFSETFROM:+0100
TZOFFSETTO:+0200
TZNAME:Europe/Paris CEST
END:DAYLIGHT
END:VTIMEZONE
BEGIN:VEVENT
UID:f94cc640d0f4c8a2420e07f1bd4fd4a1
CATEGORIES:CIRP Sponsored Conferences
CREATED:20240311T104451
SUMMARY:18th International Conference on High Speed Machining - HSM 2025
URL;VALUE=URI:https://www.dev.cirp.net/event-detail/icalrepeat.detail/2025/10/15/2123/-/1
 8th-international-conference-on-high-speed-machining-hsm-2025.html?tmpl=com
 ponent
DESCRIPTION:<p>The <strong><span style="color: #800000;">18th International Conference 
 on High Speed Machining - HSM 2025,</span></strong> will be held in Metz, F
 rance, <span style="color: #000000;">on October 15-16, 2025</span>.</p><p><
 strong>Website: </strong><a href="https://hsm2025.fr/">https://hsm2025.fr/<
 /a></p> <a href="https://www.dev.cirp.net/event-detail/icalrepeat.detail/20
 25/10/15/2123/-/18th-international-conference-on-high-speed-machining-hsm-2
 025.html?tmpl=component">This event was imported from: https://www.dev.cirp
 .net/event-detail/icalrepeat.detail/2025/10/15/2123/-/18th-international-co
 nference-on-high-speed-machining-hsm-2025.html?tmpl=component</a>DTSTAMP:20260420T163513
DTSTART;TZID=Europe/Paris;VALUE=DATE:20251015
DTEND;TZID=Europe/Paris;VALUE=DATE:20251017
SEQUENCE:0
TRANSP:OPAQUE
END:VEVENT
END:VCALENDAR